{"text_format":"1","workbook":"xlsx","n_sheets":3,"sheets":["Deckblatt","Sportler 1","Import"],"not_rendered":{"charts":0,"images":0,"macros":0,"external_links":0,"defined_names":1,"comments":0,"pivot_tables":0},"unopened":[],"bounds":{"document_bytes":16777216,"sheet_cells":100000,"rows_first":2000,"rows_last":500,"rows_between":2000,"halvings":0,"cell_chars":16384,"cell_head_chars":4096},"cells_cut":0,"cells_raw":0,"read":"whole","date_system":"1900"}

{"sheet":"Deckblatt","index":0,"n_rows":16,"n_cols":2,"rows_kept":16,"cut":false,"hidden":false,"merged":[]}
[]
[null,"Kontrollstandards der Nachwuchskonzeption"]
[]
[null,"Hinweise:"]
[null,"- es können weitere Tabellenblätter eingefügt und umbenannt werden"]
[null,"- die Vorlage komplett kopieren und in das neue Tabellenblatt einfügen"]
[null,"- es sind bis zu 50 Tabellenblätter/Sportler möglich"]
[null,"- die Datei im Format xlsm (Excel-Format mit Makros) speichern"]
[]
[null,"- DBS-ID und das entsprechende Datum muss ausgefüllt sein"]
[null,"- pro Sportler und Datum kann jeder Test nur einmal eingeben werden"]
[null,"- ist ein entsprechender Test bereits vorhanden, wird er überschrieben"]
[null,"- auf keinen Fall dürfen Semikolon \";\" eingegeben werden"]
[null,"- Zeiten im Format mm:ss,z angeben; dies bedeutet Minuten Doppelpunkt Sekunden Komma Zehntel; dabei darf keine Stelle weg gelassen werden"]
[]
[null,"- Informationen über die jeweiligen Tests befinden sich in der Nachwuchskonzeption"]

{"sheet":"Sportler 1","index":1,"n_rows":60,"n_cols":9,"rows_kept":60,"cut":false,"hidden":false,"merged":[[1,2,1,8]]}
[]
[null,"Name:"]
[null,"DBS-ID:"]
[]
[null,"Landtest","Liegestütze","Schrägliegehang","Klimmzüge","Jump-and-Reach","Dreier-Schluss-Sprung"]
[null,"Einheit","Anzahl in 1 Minute","Anzahl in 1 Minute","Anzahl in 1 Minute","Höhe in Meter","Weite in Meter"]
[null,"Datum"]
[null,"Wert"]
[null,"Bemerkung"]
[]
[null,"Landtest","Coopertest","Unterarmstütz","Stand-and-Reach","Schulterbeweglichkeit","Rumpfhalte in Tauchposition","Schockwurf RW"]
[null,"Einheit","Meter in 12 Minuten","Max. Zeit in Minuten","Tiefe in Zentimeter","Abstand in Zentimeter","Max. Zeit in Sekunden","Weite in Meter"]
[null,"Datum"]
[null,"Wert"]
[null,"Bemerkung"]
[]
[]
[null,"Wassertest","8x 100m HS","8x 200m HS","8x 100m HS Beine","5x 400m F","3x 800m F","5x 200m L"]
[null,"Abgang","2 Minuten","4 Minuten",null,"1-1:30 Minute Pause","1-1:30 Minute Pause","1 Minute Pause"]
[null,"Datum"]
[null,"Lage",null,null,null,"Freistil","Freistil","Lagen"]
[null,"Nr. 1"]
[null,"Nr. 2"]
[null,"Nr. 3"]
[null,"Nr. 4"]
[null,"Nr. 5"]
[null,"Nr. 6"]
[null,"Nr. 7"]
[null,"Nr. 8"]
[null,"Durchschnitt",{"$f":"IF(SUM(C22:C29)=0,\"\",AVERAGE(C22:C29))","v":""},{"$f":"IF(SUM(D22:D29)=0,\"\",AVERAGE(D22:D29))","v":""},"",{"$f":"IF(SUM(F22:F26)=0,\"\",AVERAGE(F22:F26))","v":""},{"$f":"IF(SUM(G22:G24)=0,\"\",AVERAGE(G22:G24))","v":""},{"$f":"IF(SUM(H22:H26)=0,\"\",AVERAGE(H22:H26))","v":""}]
[null,"Bemerkung"]
[]
[null,"Wassertest","4x 50m LgF","4x 50m LgF Beine","4x 25m LgF","4x 15m LgF Start","4x 10m LgF Wende"]
[null,"Abgang","2 Minuten","2 Minuten","2 Minuten","2:30 Minuten"]
[null,"Datum"]
[null,"Schmetterling"]
[null,"Rücken"]
[null,"Brust"]
[null,"Freistil"]
[null,"Summe",{"$f":"IF(SUM(C36:C39)=0,\"\",SUM(C36:C39))","v":""},{"$f":"IF(SUM(D36:D39)=0,\"\",SUM(D36:D39))","v":""},"",{"$f":"IF(SUM(F36:F39)=0,\"\",SUM(F36:F39))","v":""},{"$f":"IF(SUM(G36:G39)=0,\"\",SUM(G36:G39))","v":""}]
[null,"Bemerkung"]
[]
[null,"Wassertest","4x 15m DB","Wassertest","Gleiten Bauchlage","Wassertest","1500 F","Wassertest","Stufentest"]
[null,"Datum",null,"Datum",null,"Datum",null,"Datum"]
[null,"Bauchlage",null,"Zeit bei 5m",null,"100m",null,"Strecke"]
[null,"Rückenlage",null,"Zeit bei 7,5m",null,"200m",null,"Lage"]
[null,"rechte Seite",null,"Zeit bei 10m",null,"300m",null,"Stufe 1"]
[null,"linke Seite",null,"Bemerkung",null,"400m",null,"Stufe 1"]
[null,"Summe",{"$f":"IF(SUM(C45:C48)=0,\"\",SUM(C45:C48))","v":""},null,null,"500m",null,"Stufe 1"]
[null,"Bemerkung",null,null,null,"600m",null,"Stufe 2"]
[null,null,null,null,null,"700m",null,"Stufe 2"]
[null,null,null,null,null,"800m",null,"Stufe 3"]
[null,null,null,null,null,"900m",null,"Stufe 4"]
[null,null,null,null,null,"1000m",null,"Stufe 5"]
[null,null,null,null,null,"1100m",null,"Bemerkung"]
[null,null,null,null,null,"1200m"]
[null,null,null,null,null,"1300m"]
[null,null,null,null,null,"1400m"]
[null,null,null,null,null,"1500m"]
[null,null,null,null,null,"Bemerkung"]

{"sheet":"Import","index":2,"n_rows":52,"n_cols":158,"rows_kept":52,"cut":false,"hidden":false,"merged":[]}
[{"$f":"IF(ISERR(INDEX(Name,ROW())),\"\",IF(OR(INDEX(Name,ROW())=\"Import\",INDEX(Name,ROW())=\"Deckblatt\"),\"\",\"'\"&INDEX(Name,ROW())&\"'\"))","v":""},{"$f":"IF(A1<>\"\",IF(INDIRECT(A1&\"!C3\")=\"\",\"\",INDIRECT(A1&\"!C3\")),\"\")","v":""},{"$f":"IF(A1<>\"\",IF(INDIRECT(A1&\"!C7\")=\"\",\"\",INDIRECT(A1&\"!C7\")),\"\")","v":""},{"$f":"IF(A1<>\"\",IF(INDIRECT(A1&\"!C8\")=\"\",\"\",INDIRECT(A1&\"!C8\")),\"\")","v":""},{"$f":"IF(A1<>\"\",IF(INDIRECT(A1&\"!C9\")=\"\",\"\",SUBSTITUTE(INDIRECT(A1&\"!C9\"),\";\",\",\")),\"\")","v":""},{"$f":"IF(A1<>\"\",IF(INDIRECT(A1&\"!D7\")=\"\",\"\",INDIRECT(A1&\"!D7\")),\"\")","v":""},{"$f":"IF(A1<>\"\",IF(INDIRECT(A1&\"!D8\")=\"\",\"\",INDIRECT(A1&\"!D8\")),\"\")","v":""},{"$f":"IF(A1<>\"\",IF(INDIRECT(A1&\"!D9\")=\"\",\"\",SUBSTITUTE(INDIRECT(A1&\"!D9\"),\";\",\",\")),\"\")","v":""},{"$f":"IF(A1<>\"\",IF(INDIRECT(A1&\"!E7\")=\"\",\"\",INDIRECT(A1&\"!E7\")),\"\")","v":""},{"$f":"IF(A1<>\"\",IF(INDIRECT(A1&\"!E8\")=\"\",\"\",INDIRECT(A1&\"!E8\")),\"\")","v":""},{"$f":"IF(A1<>\"\",IF(INDIRECT(A1&\"!E9\")=\"\",\"\",SUBSTITUTE(INDIRECT(A1&\"!E9\"),\";\",\",\")),\"\")","v":""},{"$f":"IF(A1<>\"\",IF(INDIRECT(A1&\"!F7\")=\"\",\"\",INDIRECT(A1&\"!F7\")),\"\")","v":""},{"$f":"IF(A1<>\"\",IF(INDIRECT(A1&\"!F8\")=\"\",\"\",INDIRECT(A1&\"!F8\")),\"\")","v":""},{"$f":"IF(A1<>\"\",IF(INDIRECT(A1&\"!F9\")=\"\",\"\",SUBSTITUTE(INDIRECT(A1&\"!F9\"),\";\",\",\")),\"\")","v":""},{"$f":"IF(A1<>\"\",IF(INDIRECT(A1&\"!G7\")=\"\",\"\",INDIRECT(A1&\"!G7\")),\"\")","v":""},{"$f":"IF(A1<>\"\",IF(INDIRECT(A1&\"!G8\")=\"\",\"\",INDIRECT(A1&\"!G8\")),\"\")","v":""},{"$f":"IF(A1<>\"\",IF(INDIRECT(A1&\"!G9\")=\"\",\"\",SUBSTITUTE(INDIRECT(A1&\"!G9\"),\";\",\",\")),\"\")","v":""},{"$f":"IF(A1<>\"\",IF(INDIRECT(A1&\"!C13\")=\"\",\"\",INDIRECT(A1&\"!C13\")),\"\")","v":""},{"$f":"IF(A1<>\"\",IF(INDIRECT(A1&\"!C14\")=\"\",\"\",INDIRECT(A1&\"!C14\")),\"\")","v":""},{"$f":"IF(A1<>\"\",IF(INDIRECT(A1&\"!C15\")=\"\",\"\",SUBSTITUTE(INDIRECT(A1&\"!C15\"),\";\",\",\")),\"\")","v":""},{"$f":"IF(A1<>\"\",IF(INDIRECT(A1&\"!D13\")=\"\",\"\",INDIRECT(A1&\"!D13\")),\"\")","v":""},{"$f":"IF(A1<>\"\",IF(INDIRECT(A1&\"!D14\")=\"\",\"\",INDIRECT(A1&\"!D14\")),\"\")","v":""},{"$f":"IF(A1<>\"\",IF(INDIRECT(A1&\"!D15\")=\"\",\"\",SUBSTITUTE(INDIRECT(A1&\"!D15\"),\";\",\",\")),\"\")","v":""},{"$f":"IF(A1<>\"\",IF(INDIRECT(A1&\"!E13\")=\"\",\"\",INDIRECT(A1&\"!E13\")),\"\")","v":""},{"$f":"IF(A1<>\"\",IF(INDIRECT(A1&\"!E14\")=\"\",\"\",INDIRECT(A1&\"!E14\")),\"\")","v":""},{"$f":"IF(A1<>\"\",IF(INDIRECT(A1&\"!E15\")=\"\",\"\",SUBSTITUTE(INDIRECT(A1&\"!E15\"),\";\",\",\")),\"\")","v":""},{"$f":"IF(A1<>\"\",IF(INDIRECT(A1&\"!F13\")=\"\",\"\",INDIRECT(A1&\"!F13\")),\"\")","v":""},{"$f":"IF(A1<>\"\",IF(INDIRECT(A1&\"!F14\")=\"\",\"\",INDIRECT(A1&\"!F14\")),\"\")","v":""},{"$f":"IF(A1<>\"\",IF(INDIRECT(A1&\"!F15\")=\"\",\"\",SUBSTITUTE(INDIRECT(A1&\"!F15\"),\";\",\",\")),\"\")","v":""},{"$f":"IF(A1<>\"\",IF(INDIRECT(A1&\"!G13\")=\"\",\"\",INDIRECT(A1&\"!G13\")),\"\")","v":""},{"$f":"IF(A1<>\"\",IF(INDIRECT(A1&\"!G14\")=\"\",\"\",INDIRECT(A1&\"!G14\")),\"\")","v":""},{"$f":"IF(A1<>\"\",IF(INDIRECT(A1&\"!G15\")=\"\",\"\",SUBSTITUTE(INDIRECT(A1&\"!G15\"),\";\",\",\")),\"\")","v":""},{"$f":"IF(A1<>\"\",IF(INDIRECT(A1&\"!H13\")=\"\",\"\",INDIRECT(A1&\"!H13\")),\"\")","v":""},{"$f":"IF(A1<>\"\",IF(INDIRECT(A1&\"!H14\")=\"\",\"\",INDIRECT(A1&\"!H14\")),\"\")","v":""},{"$f":"IF(A1<>\"\",IF(INDIRECT(A1&\"!H15\")=\"\",\"\",SUBSTITUTE(INDIRECT(A1&\"!H15\"),\";\",\",\")),\"\")","v":""},{"$f":"IF(A1<>\"\",IF(INDIRECT(A1&\"!C20\")=\"\",\"\",INDIRECT(A1&\"!C20\")),\"\")","v":""},{"$f":"IF(A1<>\"\",IF(INDIRECT(A1&\"!C21\")=\"\",\"\",LEFT(INDIRECT(A1&\"!C21\"),1)),\"\")","v":""},{"$f":"IF(A1<>\"\",IF(INDIRECT(A1&\"!C22\")=\"\",\"\",INDIRECT(A1&\"!C22\")),\"\")","v":""},{"$f":"IF(A1<>\"\",IF(INDIRECT(A1&\"!C23\")=\"\",\"\",INDIRECT(A1&\"!C23\")),\"\")","v":""},{"$f":"IF(A1<>\"\",IF(INDIRECT(A1&\"!C24\")=\"\",\"\",INDIRECT(A1&\"!C24\")),\"\")","v":""},{"$f":"IF(A1<>\"\",IF(INDIRECT(A1&\"!C25\")=\"\",\"\",INDIRECT(A1&\"!C25\")),\"\")","v":""},{"$f":"IF(A1<>\"\",IF(INDIRECT(A1&\"!C26\")=\"\",\"\",INDIRECT(A1&\"!C26\")),\"\")","v":""},{"$f":"IF(A1<>\"\",IF(INDIRECT(A1&\"!C27\")=\"\",\"\",INDIRECT(A1&\"!C27\")),\"\")","v":""},{"$f":"IF(A1<>\"\",IF(INDIRECT(A1&\"!C28\")=\"\",\"\",INDIRECT(A1&\"!C28\")),\"\")","v":""},{"$f":"IF(A1<>\"\",IF(INDIRECT(A1&\"!C29\")=\"\",\"\",INDIRECT(A1&\"!C29\")),\"\")","v":""},{"$f":"IF(A1<>\"\",IF(INDIRECT(A1&\"!C31\")=\"\",\"\",SUBSTITUTE(INDIRECT(A1&\"!C31\"),\";\",\",\")),\"\")","v":""},{"$f":"IF(A1<>\"\",IF(INDIRECT(A1&\"!D20\")=\"\",\"\",INDIRECT(A1&\"!D20\")),\"\")","v":""},{"$f":"IF(A1<>\"\",IF(INDIRECT(A1&\"!D21\")=\"\",\"\",LEFT(INDIRECT(A1&\"!D21\"),1)),\"\")","v":""},{"$f":"IF(A1<>\"\",IF(INDIRECT(A1&\"!D22\")=\"\",\"\",INDIRECT(A1&\"!D22\")),\"\")","v":""},{"$f":"IF(A1<>\"\",IF(INDIRECT(A1&\"!D23\")=\"\",\"\",INDIRECT(A1&\"!D23\")),\"\")","v":""},{"$f":"IF(A1<>\"\",IF(INDIRECT(A1&\"!D24\")=\"\",\"\",INDIRECT(A1&\"!D24\")),\"\")","v":""},{"$f":"IF(A1<>\"\",IF(INDIRECT(A1&\"!D25\")=\"\",\"\",INDIRECT(A1&\"!D25\")),\"\")","v":""},{"$f":"IF(A1<>\"\",IF(INDIRECT(A1&\"!D26\")=\"\",\"\",INDIRECT(A1&\"!D26\")),\"\")","v":""},{"$f":"IF(A1<>\"\",IF(INDIRECT(A1&\"!D27\")=\"\",\"\",INDIRECT(A1&\"!D27\")),\"\")","v":""},{"$f":"IF(A1<>\"\",IF(INDIRECT(A1&\"!D28\")=\"\",\"\",INDIRECT(A1&\"!D28\")),\"\")","v":""},{"$f":"IF(A1<>\"\",IF(INDIRECT(A1&\"!D29\")=\"\",\"\",INDIRECT(A1&\"!D29\")),\"\")","v":""},{"$f":"IF(A1<>\"\",IF(INDIRECT(A1&\"!D31\")=\"\",\"\",SUBSTITUTE(INDIRECT(A1&\"!D31\"),\";\",\",\")),\"\")","v":""},{"$f":"IF(A1<>\"\",IF(INDIRECT(A1&\"!E20\")=\"\",\"\",INDIRECT(A1&\"!E20\")),\"\")","v":""},{"$f":"IF(A1<>\"\",IF(INDIRECT(A1&\"!E21\")=\"\",\"\",LEFT(INDIRECT(A1&\"!E21\"),1)),\"\")","v":""},{"$f":"IF(A1<>\"\",IF(INDIRECT(A1&\"!E22\")=\"\",\"\",INDIRECT(A1&\"!E22\")),\"\")","v":""},{"$f":"IF(A1<>\"\",IF(INDIRECT(A1&\"!E23\")=\"\",\"\",INDIRECT(A1&\"!E23\")),\"\")","v":""},{"$f":"IF(A1<>\"\",IF(INDIRECT(A1&\"!E24\")=\"\",\"\",INDIRECT(A1&\"!E24\")),\"\")","v":""},{"$f":"IF(A1<>\"\",IF(INDIRECT(A1&\"!E25\")=\"\",\"\",INDIRECT(A1&\"!E25\")),\"\")","v":""},{"$f":"IF(A1<>\"\",IF(INDIRECT(A1&\"!E26\")=\"\",\"\",INDIRECT(A1&\"!E26\")),\"\")","v":""},{"$f":"IF(A1<>\"\",IF(INDIRECT(A1&\"!E27\")=\"\",\"\",INDIRECT(A1&\"!E27\")),\"\")","v":""},{"$f":"IF(A1<>\"\",IF(INDIRECT(A1&\"!E28\")=\"\",\"\",INDIRECT(A1&\"!E28\")),\"\")","v":""},{"$f":"IF(A1<>\"\",IF(INDIRECT(A1&\"!E29\")=\"\",\"\",INDIRECT(A1&\"!E29\")),\"\")","v":""},{"$f":"IF(A1<>\"\",IF(INDIRECT(A1&\"!E31\")=\"\",\"\",SUBSTITUTE(INDIRECT(A1&\"!E31\"),\";\",\",\")),\"\")","v":""},{"$f":"IF(A1<>\"\",IF(INDIRECT(A1&\"!F20\")=\"\",\"\",INDIRECT(A1&\"!F20\")),\"\")","v":""},{"$f":"IF(A1<>\"\",IF(INDIRECT(A1&\"!F22\")=\"\",\"\",INDIRECT(A1&\"!F22\")),\"\")","v":""},{"$f":"IF(A1<>\"\",IF(INDIRECT(A1&\"!F23\")=\"\",\"\",INDIRECT(A1&\"!F23\")),\"\")","v":""},{"$f":"IF(A1<>\"\",IF(INDIRECT(A1&\"!F24\")=\"\",\"\",INDIRECT(A1&\"!F24\")),\"\")","v":""},{"$f":"IF(A1<>\"\",IF(INDIRECT(A1&\"!F25\")=\"\",\"\",INDIRECT(A1&\"!F25\")),\"\")","v":""},{"$f":"IF(A1<>\"\",IF(INDIRECT(A1&\"!F26\")=\"\",\"\",INDIRECT(A1&\"!F26\")),\"\")","v":""},{"$f":"IF(A1<>\"\",IF(INDIRECT(A1&\"!F31\")=\"\",\"\",SUBSTITUTE(INDIRECT(A1&\"!F31\"),\";\",\",\")),\"\")","v":""},{"$f":"IF(A1<>\"\",IF(INDIRECT(A1&\"!G20\")=\"\",\"\",INDIRECT(A1&\"!G20\")),\"\")","v":""},{"$f":"IF(A1<>\"\",IF(INDIRECT(A1&\"!G22\")=\"\",\"\",INDIRECT(A1&\"!G22\")),\"\")","v":""},{"$f":"IF(A1<>\"\",IF(INDIRECT(A1&\"!G23\")=\"\",\"\",INDIRECT(A1&\"!G23\")),\"\")","v":""},{"$f":"IF(A1<>\"\",IF(INDIRECT(A1&\"!G24\")=\"\",\"\",INDIRECT(A1&\"!G24\")),\"\")","v":""},{"$f":"IF(A1<>\"\",IF(INDIRECT(A1&\"!G31\")=\"\",\"\",SUBSTITUTE(INDIRECT(A1&\"!G31\"),\";\",\",\")),\"\")","v":""},{"$f":"IF(A1<>\"\",IF(INDIRECT(A1&\"!H20\")=\"\",\"\",INDIRECT(A1&\"!H20\")),\"\")","v":""},{"$f":"IF(A1<>\"\",IF(INDIRECT(A1&\"!H22\")=\"\",\"\",INDIRECT(A1&\"!H22\")),\"\")","v":""},{"$f":"IF(A1<>\"\",IF(INDIRECT(A1&\"!H23\")=\"\",\"\",INDIRECT(A1&\"!H23\")),\"\")","v":""},{"$f":"IF(A1<>\"\",IF(INDIRECT(A1&\"!H24\")=\"\",\"\",INDIRECT(A1&\"!H24\")),\"\")","v":""},{"$f":"IF(A1<>\"\",IF(INDIRECT(A1&\"!H25\")=\"\",\"\",INDIRECT(A1&\"!H25\")),\"\")","v":""},{"$f":"IF(A1<>\"\",IF(INDIRECT(A1&\"!H26\")=\"\",\"\",INDIRECT(A1&\"!H26\")),\"\")","v":""},{"$f":"IF(A1<>\"\",IF(INDIRECT(A1&\"!H31\")=\"\",\"\",SUBSTITUTE(INDIRECT(A1&\"!H31\"),\";\",\",\")),\"\")","v":""},{"$f":"IF(A1<>\"\",IF(INDIRECT(A1&\"!C35\")=\"\",\"\",INDIRECT(A1&\"!C35\")),\"\")","v":""},{"$f":"IF(A1<>\"\",IF(INDIRECT(A1&\"!C36\")=\"\",\"\",INDIRECT(A1&\"!C36\")),\"\")","v":""},{"$f":"IF(A1<>\"\",IF(INDIRECT(A1&\"!C37\")=\"\",\"\",INDIRECT(A1&\"!C37\")),\"\")","v":""},{"$f":"IF(A1<>\"\",IF(INDIRECT(A1&\"!C38\")=\"\",\"\",INDIRECT(A1&\"!C38\")),\"\")","v":""},{"$f":"IF(A1<>\"\",IF(INDIRECT(A1&\"!C39\")=\"\",\"\",INDIRECT(A1&\"!C39\")),\"\")","v":""},{"$f":"IF(A1<>\"\",IF(INDIRECT(A1&\"!C41\")=\"\",\"\",SUBSTITUTE(INDIRECT(A1&\"!C41\"),\";\",\",\")),\"\")","v":""},{"$f":"IF(A1<>\"\",IF(INDIRECT(A1&\"!D35\")=\"\",\"\",INDIRECT(A1&\"!D35\")),\"\")","v":""},{"$f":"IF(A1<>\"\",IF(INDIRECT(A1&\"!D36\")=\"\",\"\",INDIRECT(A1&\"!D36\")),\"\")","v":""},{"$f":"IF(A1<>\"\",IF(INDIRECT(A1&\"!D37\")=\"\",\"\",INDIRECT(A1&\"!D37\")),\"\")","v":""},{"$f":"IF(A1<>\"\",IF(INDIRECT(A1&\"!D38\")=\"\",\"\",INDIRECT(A1&\"!D38\")),\"\")","v":""},{"$f":"IF(A1<>\"\",IF(INDIRECT(A1&\"!D39\")=\"\",\"\",INDIRECT(A1&\"!D39\")),\"\")","v":""},{"$f":"IF(A1<>\"\",IF(INDIRECT(A1&\"!D41\")=\"\",\"\",SUBSTITUTE(INDIRECT(A1&\"!D41\"),\";\",\",\")),\"\")","v":""},{"$f":"IF(A1<>\"\",IF(INDIRECT(A1&\"!E35\")=\"\",\"\",INDIRECT(A1&\"!E35\")),\"\")","v":""},{"$f":"IF(A1<>\"\",IF(INDIRECT(A1&\"!E36\")=\"\",\"\",INDIRECT(A1&\"!E36\")),\"\")","v":""},{"$f":"IF(A1<>\"\",IF(INDIRECT(A1&\"!E37\")=\"\",\"\",INDIRECT(A1&\"!E37\")),\"\")","v":""},{"$f":"IF(A1<>\"\",IF(INDIRECT(A1&\"!E38\")=\"\",\"\",INDIRECT(A1&\"!E38\")),\"\")","v":""},{"$f":"IF(A1<>\"\",IF(INDIRECT(A1&\"!E39\")=\"\",\"\",INDIRECT(A1&\"!E39\")),\"\")","v":""},{"$f":"IF(A1<>\"\",IF(INDIRECT(A1&\"!E41\")=\"\",\"\",SUBSTITUTE(INDIRECT(A1&\"!E41\"),\";\",\",\")),\"\")","v":""},{"$f":"IF(A1<>\"\",IF(INDIRECT(A1&\"!F35\")=\"\",\"\",INDIRECT(A1&\"!F35\")),\"\")","v":""},{"$f":"IF(A1<>\"\",IF(INDIRECT(A1&\"!F36\")=\"\",\"\",INDIRECT(A1&\"!F36\")),\"\")","v":""},{"$f":"IF(A1<>\"\",IF(INDIRECT(A1&\"!F37\")=\"\",\"\",INDIRECT(A1&\"!F37\")),\"\")","v":""},{"$f":"IF(A1<>\"\",IF(INDIRECT(A1&\"!F38\")=\"\",\"\",INDIRECT(A1&\"!F38\")),\"\")","v":""},{"$f":"IF(A1<>\"\",IF(INDIRECT(A1&\"!F39\")=\"\",\"\",INDIRECT(A1&\"!F39\")),\"\")","v":""},{"$f":"IF(A1<>\"\",IF(INDIRECT(A1&\"!F41\")=\"\",\"\",SUBSTITUTE(INDIRECT(A1&\"!F41\"),\";\",\",\")),\"\")","v":""},{"$f":"IF(A1<>\"\",IF(INDIRECT(A1&\"!G35\")=\"\",\"\",INDIRECT(A1&\"!G35\")),\"\")","v":""},{"$f":"IF(A1<>\"\",IF(INDIRECT(A1&\"!G36\")=\"\",\"\",INDIRECT(A1&\"!G36\")),\"\")","v":""},{"$f":"IF(A1<>\"\",IF(INDIRECT(A1&\"!G37\")=\"\",\"\",INDIRECT(A1&\"!G37\")),\"\")","v":""},{"$f":"IF(A1<>\"\",IF(INDIRECT(A1&\"!G38\")=\"\",\"\",INDIRECT(A1&\"!G38\")),\"\")","v":""},{"$f":"IF(A1<>\"\",IF(INDIRECT(A1&\"!G39\")=\"\",\"\",INDIRECT(A1&\"!G39\")),\"\")","v":""},{"$f":"IF(A1<>\"\",IF(INDIRECT(A1&\"!G41\")=\"\",\"\",SUBSTITUTE(INDIRECT(A1&\"!G41\"),\";\",\",\")),\"\")","v":""},{"$f":"IF(A1<>\"\",IF(INDIRECT(A1&\"!C44\")=\"\",\"\",INDIRECT(A1&\"!C44\")),\"\")","v":""},{"$f":"IF(A1<>\"\",IF(INDIRECT(A1&\"!C45\")=\"\",\"\",INDIRECT(A1&\"!C45\")),\"\")","v":""},{"$f":"IF(A1<>\"\",IF(INDIRECT(A1&\"!C46\")=\"\",\"\",INDIRECT(A1&\"!C46\")),\"\")","v":""},{"$f":"IF(A1<>\"\",IF(INDIRECT(A1&\"!C47\")=\"\",\"\",INDIRECT(A1&\"!C47\")),\"\")","v":""},{"$f":"IF(A1<>\"\",IF(INDIRECT(A1&\"!C48\")=\"\",\"\",INDIRECT(A1&\"!C48\")),\"\")","v":""},{"$f":"IF(A1<>\"\",IF(INDIRECT(A1&\"!C50\")=\"\",\"\",SUBSTITUTE(INDIRECT(A1&\"!C50\"),\";\",\",\")),\"\")","v":""},{"$f":"IF(A1<>\"\",IF(INDIRECT(A1&\"!E44\")=\"\",\"\",INDIRECT(A1&\"!E44\")),\"\")","v":""},{"$f":"IF(A1<>\"\",IF(INDIRECT(A1&\"!E45\")=\"\",\"\",INDIRECT(A1&\"!E45\")),\"\")","v":""},{"$f":"IF(A1<>\"\",IF(INDIRECT(A1&\"!E46\")=\"\",\"\",INDIRECT(A1&\"!E46\")),\"\")","v":""},{"$f":"IF(A1<>\"\",IF(INDIRECT(A1&\"!E47\")=\"\",\"\",INDIRECT(A1&\"!E47\")),\"\")","v":""},{"$f":"IF(A1<>\"\",IF(INDIRECT(A1&\"!E48\")=\"\",\"\",SUBSTITUTE(INDIRECT(A1&\"!E48\"),\";\",\",\")),\"\")","v":""},{"$f":"IF(A1<>\"\",IF(INDIRECT(A1&\"!G44\")=\"\",\"\",INDIRECT(A1&\"!G44\")),\"\")","v":""},{"$f":"IF(A1<>\"\",IF(INDIRECT(A1&\"!G45\")=\"\",\"\",INDIRECT(A1&\"!G45\")),\"\")","v":""},{"$f":"IF(A1<>\"\",IF(INDIRECT(A1&\"!G46\")=\"\",\"\",INDIRECT(A1&\"!G46\")),\"\")","v":""},{"$f":"IF(A1<>\"\",IF(INDIRECT(A1&\"!G47\")=\"\",\"\",INDIRECT(A1&\"!G47\")),\"\")","v":""},{"$f":"IF(A1<>\"\",IF(INDIRECT(A1&\"!G48\")=\"\",\"\",INDIRECT(A1&\"!G48\")),\"\")","v":""},{"$f":"IF(A1<>\"\",IF(INDIRECT(A1&\"!G49\")=\"\",\"\",INDIRECT(A1&\"!G49\")),\"\")","v":""},{"$f":"IF(A1<>\"\",IF(INDIRECT(A1&\"!G50\")=\"\",\"\",INDIRECT(A1&\"!G50\")),\"\")","v":""},{"$f":"IF(A1<>\"\",IF(INDIRECT(A1&\"!G51\")=\"\",\"\",INDIRECT(A1&\"!G51\")),\"\")","v":""},{"$f":"IF(A1<>\"\",IF(INDIRECT(A1&\"!G52\")=\"\",\"\",INDIRECT(A1&\"!G52\")),\"\")","v":""},{"$f":"IF(A1<>\"\",IF(INDIRECT(A1&\"!G53\")=\"\",\"\",INDIRECT(A1&\"!G53\")),\"\")","v":""},{"$f":"IF(A1<>\"\",IF(INDIRECT(A1&\"!G54\")=\"\",\"\",INDIRECT(A1&\"!G54\")),\"\")","v":""},{"$f":"IF(A1<>\"\",IF(INDIRECT(A1&\"!G55\")=\"\",\"\",INDIRECT(A1&\"!G55\")),\"\")","v":""},{"$f":"IF(A1<>\"\",IF(INDIRECT(A1&\"!G56\")=\"\",\"\",INDIRECT(A1&\"!G56\")),\"\")","v":""},{"$f":"IF(A1<>\"\",IF(INDIRECT(A1&\"!G57\")=\"\",\"\",INDIRECT(A1&\"!G57\")),\"\")","v":""},{"$f":"IF(A1<>\"\",IF(INDIRECT(A1&\"!G58\")=\"\",\"\",INDIRECT(A1&\"!G58\")),\"\")","v":""},{"$f":"IF(A1<>\"\",IF(INDIRECT(A1&\"!G59\")=\"\",\"\",INDIRECT(A1&\"!G59\")),\"\")","v":""},{"$f":"IF(A1<>\"\",IF(INDIRECT(A1&\"!G60\")=\"\",\"\",SUBSTITUTE(INDIRECT(A1&\"!G60\"),\";\",\",\")),\"\")","v":""},{"$f":"IF(A1<>\"\",IF(INDIRECT(A1&\"!I44\")=\"\",\"\",INDIRECT(A1&\"!I44\")),\"\")","v":""},{"$f":"IF(A1<>\"\",IF(INDIRECT(A1&\"!I45\")=\"\",\"\",INDIRECT(A1&\"!I45\")),\"\")","v":""},{"$f":"IF(A1<>\"\",IF(INDIRECT(A1&\"!I46\")=\"\",\"\",LEFT(INDIRECT(A1&\"!I46\"),1)),\"\")","v":""},{"$f":"IF(A1<>\"\",IF(INDIRECT(A1&\"!I47\")=\"\",\"\",INDIRECT(A1&\"!I47\")),\"\")","v":""},{"$f":"IF(A1<>\"\",IF(INDIRECT(A1&\"!I48\")=\"\",\"\",INDIRECT(A1&\"!I48\")),\"\")","v":""},{"$f":"IF(A1<>\"\",IF(INDIRECT(A1&\"!I49\")=\"\",\"\",INDIRECT(A1&\"!I49\")),\"\")","v":""},{"$f":"IF(A1<>\"\",IF(INDIRECT(A1&\"!I50\")=\"\",\"\",INDIRECT(A1&\"!I50\")),\"\")","v":""},{"$f":"IF(A1<>\"\",IF(INDIRECT(A1&\"!I51\")=\"\",\"\",INDIRECT(A1&\"!I51\")),\"\")","v":""},{"$f":"IF(A1<>\"\",IF(INDIRECT(A1&\"!I52\")=\"\",\"\",INDIRECT(A1&\"!I52\")),\"\")","v":""},{"$f":"IF(A1<>\"\",IF(INDIRECT(A1&\"!I53\")=\"\",\"\",INDIRECT(A1&\"!I53\")),\"\")","v":""},{"$f":"IF(A1<>\"\",IF(INDIRECT(A1&\"!I54\")=\"\",\"\",INDIRECT(A1&\"!I54\")),\"\")","v":""},{"$f":"IF(A1<>\"\",IF(INDIRECT(A1&\"!I55\")=\"\",\"\",SUBSTITUTE(INDIRECT(A1&\"!I55\"),\";\",\",\")),\"\")","v":""},{"$f":"IF(A1<>\"\",\"*Ende*\",\"\")","v":""}]
["'Sportler 1'",{"$f":"IF(A2<>\"\",IF(INDIRECT(A2&\"!C3\")=\"\",\"\",INDIRECT(A2&\"!C3\")),\"\")","v":""},{"$f":"IF(A2<>\"\",IF(INDIRECT(A2&\"!C7\")=\"\",\"\",INDIRECT(A2&\"!C7\")),\"\")","v":""},{"$f":"IF(A2<>\"\",IF(INDIRECT(A2&\"!C8\")=\"\",\"\",INDIRECT(A2&\"!C8\")),\"\")","v":""},{"$f":"IF(A2<>\"\",IF(INDIRECT(A2&\"!C9\")=\"\",\"\",SUBSTITUTE(INDIRECT(A2&\"!C9\"),\";\",\",\")),\"\")","v":""},{"$f":"IF(A2<>\"\",IF(INDIRECT(A2&\"!D7\")=\"\",\"\",INDIRECT(A2&\"!D7\")),\"\")","v":""},{"$f":"IF(A2<>\"\",IF(INDIRECT(A2&\"!D8\")=\"\",\"\",INDIRECT(A2&\"!D8\")),\"\")","v":""},{"$f":"IF(A2<>\"\",IF(INDIRECT(A2&\"!D9\")=\"\",\"\",SUBSTITUTE(INDIRECT(A2&\"!D9\"),\";\",\",\")),\"\")","v":""},{"$f":"IF(A2<>\"\",IF(INDIRECT(A2&\"!E7\")=\"\",\"\",INDIRECT(A2&\"!E7\")),\"\")","v":""},{"$f":"IF(A2<>\"\",IF(INDIRECT(A2&\"!E8\")=\"\",\"\",INDIRECT(A2&\"!E8\")),\"\")","v":""},{"$f":"IF(A2<>\"\",IF(INDIRECT(A2&\"!E9\")=\"\",\"\",SUBSTITUTE(INDIRECT(A2&\"!E9\"),\";\",\",\")),\"\")","v":""},{"$f":"IF(A2<>\"\",IF(INDIRECT(A2&\"!F7\")=\"\",\"\",INDIRECT(A2&\"!F7\")),\"\")","v":""},{"$f":"IF(A2<>\"\",IF(INDIRECT(A2&\"!F8\")=\"\",\"\",INDIRECT(A2&\"!F8\")),\"\")","v":""},{"$f":"IF(A2<>\"\",IF(INDIRECT(A2&\"!F9\")=\"\",\"\",SUBSTITUTE(INDIRECT(A2&\"!F9\"),\";\",\",\")),\"\")","v":""},{"$f":"IF(A2<>\"\",IF(INDIRECT(A2&\"!G7\")=\"\",\"\",INDIRECT(A2&\"!G7\")),\"\")","v":""},{"$f":"IF(A2<>\"\",IF(INDIRECT(A2&\"!G8\")=\"\",\"\",INDIRECT(A2&\"!G8\")),\"\")","v":""},{"$f":"IF(A2<>\"\",IF(INDIRECT(A2&\"!G9\")=\"\",\"\",SUBSTITUTE(INDIRECT(A2&\"!G9\"),\";\",\",\")),\"\")","v":""},{"$f":"IF(A2<>\"\",IF(INDIRECT(A2&\"!C13\")=\"\",\"\",INDIRECT(A2&\"!C13\")),\"\")","v":""},{"$f":"IF(A2<>\"\",IF(INDIRECT(A2&\"!C14\")=\"\",\"\",INDIRECT(A2&\"!C14\")),\"\")","v":""},{"$f":"IF(A2<>\"\",IF(INDIRECT(A2&\"!C15\")=\"\",\"\",SUBSTITUTE(INDIRECT(A2&\"!C15\"),\";\",\",\")),\"\")","v":""},{"$f":"IF(A2<>\"\",IF(INDIRECT(A2&\"!D13\")=\"\",\"\",INDIRECT(A2&\"!D13\")),\"\")","v":""},{"$f":"IF(A2<>\"\",IF(INDIRECT(A2&\"!D14\")=\"\",\"\",INDIRECT(A2&\"!D14\")),\"\")","v":""},{"$f":"IF(A2<>\"\",IF(INDIRECT(A2&\"!D15\")=\"\",\"\",SUBSTITUTE(INDIRECT(A2&\"!D15\"),\";\",\",\")),\"\")","v":""},{"$f":"IF(A2<>\"\",IF(INDIRECT(A2&\"!E13\")=\"\",\"\",INDIRECT(A2&\"!E13\")),\"\")","v":""},{"$f":"IF(A2<>\"\",IF(INDIRECT(A2&\"!E14\")=\"\",\"\",INDIRECT(A2&\"!E14\")),\"\")","v":""},{"$f":"IF(A2<>\"\",IF(INDIRECT(A2&\"!E15\")=\"\",\"\",SUBSTITUTE(INDIRECT(A2&\"!E15\"),\";\",\",\")),\"\")","v":""},{"$f":"IF(A2<>\"\",IF(INDIRECT(A2&\"!F13\")=\"\",\"\",INDIRECT(A2&\"!F13\")),\"\")","v":""},{"$f":"IF(A2<>\"\",IF(INDIRECT(A2&\"!F14\")=\"\",\"\",INDIRECT(A2&\"!F14\")),\"\")","v":""},{"$f":"IF(A2<>\"\",IF(INDIRECT(A2&\"!F15\")=\"\",\"\",SUBSTITUTE(INDIRECT(A2&\"!F15\"),\";\",\",\")),\"\")","v":""},{"$f":"IF(A2<>\"\",IF(INDIRECT(A2&\"!G13\")=\"\",\"\",INDIRECT(A2&\"!G13\")),\"\")","v":""},{"$f":"IF(A2<>\"\",IF(INDIRECT(A2&\"!G14\")=\"\",\"\",INDIRECT(A2&\"!G14\")),\"\")","v":""},{"$f":"IF(A2<>\"\",IF(INDIRECT(A2&\"!G15\")=\"\",\"\",SUBSTITUTE(INDIRECT(A2&\"!G15\"),\";\",\",\")),\"\")","v":""},{"$f":"IF(A2<>\"\",IF(INDIRECT(A2&\"!H13\")=\"\",\"\",INDIRECT(A2&\"!H13\")),\"\")","v":""},{"$f":"IF(A2<>\"\",IF(INDIRECT(A2&\"!H14\")=\"\",\"\",INDIRECT(A2&\"!H14\")),\"\")","v":""},{"$f":"IF(A2<>\"\",IF(INDIRECT(A2&\"!H15\")=\"\",\"\",SUBSTITUTE(INDIRECT(A2&\"!H15\"),\";\",\",\")),\"\")","v":""},{"$f":"IF(A2<>\"\",IF(INDIRECT(A2&\"!C20\")=\"\",\"\",INDIRECT(A2&\"!C20\")),\"\")","v":""},{"$f":"IF(A2<>\"\",IF(INDIRECT(A2&\"!C21\")=\"\",\"\",LEFT(INDIRECT(A2&\"!C21\"),1)),\"\")","v":""},{"$f":"IF(A2<>\"\",IF(INDIRECT(A2&\"!C22\")=\"\",\"\",INDIRECT(A2&\"!C22\")),\"\")","v":""},{"$f":"IF(A2<>\"\",IF(INDIRECT(A2&\"!C23\")=\"\",\"\",INDIRECT(A2&\"!C23\")),\"\")","v":""},{"$f":"IF(A2<>\"\",IF(INDIRECT(A2&\"!C24\")=\"\",\"\",INDIRECT(A2&\"!C24\")),\"\")","v":""},{"$f":"IF(A2<>\"\",IF(INDIRECT(A2&\"!C25\")=\"\",\"\",INDIRECT(A2&\"!C25\")),\"\")","v":""},{"$f":"IF(A2<>\"\",IF(INDIRECT(A2&\"!C26\")=\"\",\"\",INDIRECT(A2&\"!C26\")),\"\")","v":""},{"$f":"IF(A2<>\"\",IF(INDIRECT(A2&\"!C27\")=\"\",\"\",INDIRECT(A2&\"!C27\")),\"\")","v":""},{"$f":"IF(A2<>\"\",IF(INDIRECT(A2&\"!C28\")=\"\",\"\",INDIRECT(A2&\"!C28\")),\"\")","v":""},{"$f":"IF(A2<>\"\",IF(INDIRECT(A2&\"!C29\")=\"\",\"\",INDIRECT(A2&\"!C29\")),\"\")","v":""},{"$f":"IF(A2<>\"\",IF(INDIRECT(A2&\"!C31\")=\"\",\"\",SUBSTITUTE(INDIRECT(A2&\"!C31\"),\";\",\",\")),\"\")","v":""},{"$f":"IF(A2<>\"\",IF(INDIRECT(A2&\"!D20\")=\"\",\"\",INDIRECT(A2&\"!D20\")),\"\")","v":""},{"$f":"IF(A2<>\"\",IF(INDIRECT(A2&\"!D21\")=\"\",\"\",LEFT(INDIRECT(A2&\"!D21\"),1)),\"\")","v":""},{"$f":"IF(A2<>\"\",IF(INDIRECT(A2&\"!D22\")=\"\",\"\",INDIRECT(A2&\"!D22\")),\"\")","v":""},{"$f":"IF(A2<>\"\",IF(INDIRECT(A2&\"!D23\")=\"\",\"\",INDIRECT(A2&\"!D23\")),\"\")","v":""},{"$f":"IF(A2<>\"\",IF(INDIRECT(A2&\"!D24\")=\"\",\"\",INDIRECT(A2&\"!D24\")),\"\")","v":""},{"$f":"IF(A2<>\"\",IF(INDIRECT(A2&\"!D25\")=\"\",\"\",INDIRECT(A2&\"!D25\")),\"\")","v":""},{"$f":"IF(A2<>\"\",IF(INDIRECT(A2&\"!D26\")=\"\",\"\",INDIRECT(A2&\"!D26\")),\"\")","v":""},{"$f":"IF(A2<>\"\",IF(INDIRECT(A2&\"!D27\")=\"\",\"\",INDIRECT(A2&\"!D27\")),\"\")","v":""},{"$f":"IF(A2<>\"\",IF(INDIRECT(A2&\"!D28\")=\"\",\"\",INDIRECT(A2&\"!D28\")),\"\")","v":""},{"$f":"IF(A2<>\"\",IF(INDIRECT(A2&\"!D29\")=\"\",\"\",INDIRECT(A2&\"!D29\")),\"\")","v":""},{"$f":"IF(A2<>\"\",IF(INDIRECT(A2&\"!D31\")=\"\",\"\",SUBSTITUTE(INDIRECT(A2&\"!D31\"),\";\",\",\")),\"\")","v":""},{"$f":"IF(A2<>\"\",IF(INDIRECT(A2&\"!E20\")=\"\",\"\",INDIRECT(A2&\"!E20\")),\"\")","v":""},{"$f":"IF(A2<>\"\",IF(INDIRECT(A2&\"!E21\")=\"\",\"\",LEFT(INDIRECT(A2&\"!E21\"),1)),\"\")","v":""},{"$f":"IF(A2<>\"\",IF(INDIRECT(A2&\"!E22\")=\"\",\"\",INDIRECT(A2&\"!E22\")),\"\")","v":""},{"$f":"IF(A2<>\"\",IF(INDIRECT(A2&\"!E23\")=\"\",\"\",INDIRECT(A2&\"!E23\")),\"\")","v":""},{"$f":"IF(A2<>\"\",IF(INDIRECT(A2&\"!E24\")=\"\",\"\",INDIRECT(A2&\"!E24\")),\"\")","v":""},{"$f":"IF(A2<>\"\",IF(INDIRECT(A2&\"!E25\")=\"\",\"\",INDIRECT(A2&\"!E25\")),\"\")","v":""},{"$f":"IF(A2<>\"\",IF(INDIRECT(A2&\"!E26\")=\"\",\"\",INDIRECT(A2&\"!E26\")),\"\")","v":""},{"$f":"IF(A2<>\"\",IF(INDIRECT(A2&\"!E27\")=\"\",\"\",INDIRECT(A2&\"!E27\")),\"\")","v":""},{"$f":"IF(A2<>\"\",IF(INDIRECT(A2&\"!E28\")=\"\",\"\",INDIRECT(A2&\"!E28\")),\"\")","v":""},{"$f":"IF(A2<>\"\",IF(INDIRECT(A2&\"!E29\")=\"\",\"\",INDIRECT(A2&\"!E29\")),\"\")","v":""},{"$f":"IF(A2<>\"\",IF(INDIRECT(A2&\"!E31\")=\"\",\"\",SUBSTITUTE(INDIRECT(A2&\"!E31\"),\";\",\",\")),\"\")","v":""},{"$f":"IF(A2<>\"\",IF(INDIRECT(A2&\"!F20\")=\"\",\"\",INDIRECT(A2&\"!F20\")),\"\")","v":""},{"$f":"IF(A2<>\"\",IF(INDIRECT(A2&\"!F22\")=\"\",\"\",INDIRECT(A2&\"!F22\")),\"\")","v":""},{"$f":"IF(A2<>\"\",IF(INDIRECT(A2&\"!F23\")=\"\",\"\",INDIRECT(A2&\"!F23\")),\"\")","v":""},{"$f":"IF(A2<>\"\",IF(INDIRECT(A2&\"!F24\")=\"\",\"\",INDIRECT(A2&\"!F24\")),\"\")","v":""},{"$f":"IF(A2<>\"\",IF(INDIRECT(A2&\"!F25\")=\"\",\"\",INDIRECT(A2&\"!F25\")),\"\")","v":""},{"$f":"IF(A2<>\"\",IF(INDIRECT(A2&\"!F26\")=\"\",\"\",INDIRECT(A2&\"!F26\")),\"\")","v":""},{"$f":"IF(A2<>\"\",IF(INDIRECT(A2&\"!F31\")=\"\",\"\",SUBSTITUTE(INDIRECT(A2&\"!F31\"),\";\",\",\")),\"\")","v":""},{"$f":"IF(A2<>\"\",IF(INDIRECT(A2&\"!G20\")=\"\",\"\",INDIRECT(A2&\"!G20\")),\"\")","v":""},{"$f":"IF(A2<>\"\",IF(INDIRECT(A2&\"!G22\")=\"\",\"\",INDIRECT(A2&\"!G22\")),\"\")","v":""},{"$f":"IF(A2<>\"\",IF(INDIRECT(A2&\"!G23\")=\"\",\"\",INDIRECT(A2&\"!G23\")),\"\")","v":""},{"$f":"IF(A2<>\"\",IF(INDIRECT(A2&\"!G24\")=\"\",\"\",INDIRECT(A2&\"!G24\")),\"\")","v":""},{"$f":"IF(A2<>\"\",IF(INDIRECT(A2&\"!G31\")=\"\",\"\",SUBSTITUTE(INDIRECT(A2&\"!G31\"),\";\",\",\")),\"\")","v":""},{"$f":"IF(A2<>\"\",IF(INDIRECT(A2&\"!H20\")=\"\",\"\",INDIRECT(A2&\"!H20\")),\"\")","v":""},{"$f":"IF(A2<>\"\",IF(INDIRECT(A2&\"!H22\")=\"\",\"\",INDIRECT(A2&\"!H22\")),\"\")","v":""},{"$f":"IF(A2<>\"\",IF(INDIRECT(A2&\"!H23\")=\"\",\"\",INDIRECT(A2&\"!H23\")),\"\")","v":""},{"$f":"IF(A2<>\"\",IF(INDIRECT(A2&\"!H24\")=\"\",\"\",INDIRECT(A2&\"!H24\")),\"\")","v":""},{"$f":"IF(A2<>\"\",IF(INDIRECT(A2&\"!H25\")=\"\",\"\",INDIRECT(A2&\"!H25\")),\"\")","v":""},{"$f":"IF(A2<>\"\",IF(INDIRECT(A2&\"!H26\")=\"\",\"\",INDIRECT(A2&\"!H26\")),\"\")","v":""},{"$f":"IF(A2<>\"\",IF(INDIRECT(A2&\"!H31\")=\"\",\"\",SUBSTITUTE(INDIRECT(A2&\"!H31\"),\";\",\",\")),\"\")","v":""},{"$f":"IF(A2<>\"\",IF(INDIRECT(A2&\"!C35\")=\"\",\"\",INDIRECT(A2&\"!C35\")),\"\")","v":""},{"$f":"IF(A2<>\"\",IF(INDIRECT(A2&\"!C36\")=\"\",\"\",INDIRECT(A2&\"!C36\")),\"\")","v":""},{"$f":"IF(A2<>\"\",IF(INDIRECT(A2&\"!C37\")=\"\",\"\",INDIRECT(A2&\"!C37\")),\"\")","v":""},{"$f":"IF(A2<>\"\",IF(INDIRECT(A2&\"!C38\")=\"\",\"\",INDIRECT(A2&\"!C38\")),\"\")","v":""},{"$f":"IF(A2<>\"\",IF(INDIRECT(A2&\"!C39\")=\"\",\"\",INDIRECT(A2&\"!C39\")),\"\")","v":""},{"$f":"IF(A2<>\"\",IF(INDIRECT(A2&\"!C41\")=\"\",\"\",SUBSTITUTE(INDIRECT(A2&\"!C41\"),\";\",\",\")),\"\")","v":""},{"$f":"IF(A2<>\"\",IF(INDIRECT(A2&\"!D35\")=\"\",\"\",INDIRECT(A2&\"!D35\")),\"\")","v":""},{"$f":"IF(A2<>\"\",IF(INDIRECT(A2&\"!D36\")=\"\",\"\",INDIRECT(A2&\"!D36\")),\"\")","v":""},{"$f":"IF(A2<>\"\",IF(INDIRECT(A2&\"!D37\")=\"\",\"\",INDIRECT(A2&\"!D37\")),\"\")","v":""},{"$f":"IF(A2<>\"\",IF(INDIRECT(A2&\"!D38\")=\"\",\"\",INDIRECT(A2&\"!D38\")),\"\")","v":""},{"$f":"IF(A2<>\"\",IF(INDIRECT(A2&\"!D39\")=\"\",\"\",INDIRECT(A2&\"!D39\")),\"\")","v":""},{"$f":"IF(A2<>\"\",IF(INDIRECT(A2&\"!D41\")=\"\",\"\",SUBSTITUTE(INDIRECT(A2&\"!D41\"),\";\",\",\")),\"\")","v":""},{"$f":"IF(A2<>\"\",IF(INDIRECT(A2&\"!E35\")=\"\",\"\",INDIRECT(A2&\"!E35\")),\"\")","v":""},{"$f":"IF(A2<>\"\",IF(INDIRECT(A2&\"!E36\")=\"\",\"\",INDIRECT(A2&\"!E36\")),\"\")","v":""},{"$f":"IF(A2<>\"\",IF(INDIRECT(A2&\"!E37\")=\"\",\"\",INDIRECT(A2&\"!E37\")),\"\")","v":""},{"$f":"IF(A2<>\"\",IF(INDIRECT(A2&\"!E38\")=\"\",\"\",INDIRECT(A2&\"!E38\")),\"\")","v":""},{"$f":"IF(A2<>\"\",IF(INDIRECT(A2&\"!E39\")=\"\",\"\",INDIRECT(A2&\"!E39\")),\"\")","v":""},{"$f":"IF(A2<>\"\",IF(INDIRECT(A2&\"!E41\")=\"\",\"\",SUBSTITUTE(INDIRECT(A2&\"!E41\"),\";\",\",\")),\"\")","v":""},{"$f":"IF(A2<>\"\",IF(INDIRECT(A2&\"!F35\")=\"\",\"\",INDIRECT(A2&\"!F35\")),\"\")","v":""},{"$f":"IF(A2<>\"\",IF(INDIRECT(A2&\"!F36\")=\"\",\"\",INDIRECT(A2&\"!F36\")),\"\")","v":""},{"$f":"IF(A2<>\"\",IF(INDIRECT(A2&\"!F37\")=\"\",\"\",INDIRECT(A2&\"!F37\")),\"\")","v":""},{"$f":"IF(A2<>\"\",IF(INDIRECT(A2&\"!F38\")=\"\",\"\",INDIRECT(A2&\"!F38\")),\"\")","v":""},{"$f":"IF(A2<>\"\",IF(INDIRECT(A2&\"!F39\")=\"\",\"\",INDIRECT(A2&\"!F39\")),\"\")","v":""},{"$f":"IF(A2<>\"\",IF(INDIRECT(A2&\"!F41\")=\"\",\"\",SUBSTITUTE(INDIRECT(A2&\"!F41\"),\";\",\",\")),\"\")","v":""},{"$f":"IF(A2<>\"\",IF(INDIRECT(A2&\"!G35\")=\"\",\"\",INDIRECT(A2&\"!G35\")),\"\")","v":""},{"$f":"IF(A2<>\"\",IF(INDIRECT(A2&\"!G36\")=\"\",\"\",INDIRECT(A2&\"!G36\")),\"\")","v":""},{"$f":"IF(A2<>\"\",IF(INDIRECT(A2&\"!G37\")=\"\",\"\",INDIRECT(A2&\"!G37\")),\"\")","v":""},{"$f":"IF(A2<>\"\",IF(INDIRECT(A2&\"!G38\")=\"\",\"\",INDIRECT(A2&\"!G38\")),\"\")","v":""},{"$f":"IF(A2<>\"\",IF(INDIRECT(A2&\"!G39\")=\"\",\"\",INDIRECT(A2&\"!G39\")),\"\")","v":""},{"$f":"IF(A2<>\"\",IF(INDIRECT(A2&\"!G41\")=\"\",\"\",SUBSTITUTE(INDIRECT(A2&\"!G41\"),\";\",\",\")),\"\")","v":""},{"$f":"IF(A2<>\"\",IF(INDIRECT(A2&\"!C44\")=\"\",\"\",INDIRECT(A2&\"!C44\")),\"\")","v":""},{"$f":"IF(A2<>\"\",IF(INDIRECT(A2&\"!C45\")=\"\",\"\",INDIRECT(A2&\"!C45\")),\"\")","v":""},{"$f":"IF(A2<>\"\",IF(INDIRECT(A2&\"!C46\")=\"\",\"\",INDIRECT(A2&\"!C46\")),\"\")","v":""},{"$f":"IF(A2<>\"\",IF(INDIRECT(A2&\"!C47\")=\"\",\"\",INDIRECT(A2&\"!C47\")),\"\")","v":""},{"$f":"IF(A2<>\"\",IF(INDIRECT(A2&\"!C48\")=\"\",\"\",INDIRECT(A2&\"!C48\")),\"\")","v":""},{"$f":"IF(A2<>\"\",IF(INDIRECT(A2&\"!C50\")=\"\",\"\",SUBSTITUTE(INDIRECT(A2&\"!C50\"),\";\",\",\")),\"\")","v":""},{"$f":"IF(A2<>\"\",IF(INDIRECT(A2&\"!E44\")=\"\",\"\",INDIRECT(A2&\"!E44\")),\"\")","v":""},{"$f":"IF(A2<>\"\",IF(INDIRECT(A2&\"!E45\")=\"\",\"\",INDIRECT(A2&\"!E45\")),\"\")","v":""},{"$f":"IF(A2<>\"\",IF(INDIRECT(A2&\"!E46\")=\"\",\"\",INDIRECT(A2&\"!E46\")),\"\")","v":""},{"$f":"IF(A2<>\"\",IF(INDIRECT(A2&\"!E47\")=\"\",\"\",INDIRECT(A2&\"!E47\")),\"\")","v":""},{"$f":"IF(A2<>\"\",IF(INDIRECT(A2&\"!E48\")=\"\",\"\",SUBSTITUTE(INDIRECT(A2&\"!E48\"),\";\",\",\")),\"\")","v":""},{"$f":"IF(A2<>\"\",IF(INDIRECT(A2&\"!G44\")=\"\",\"\",INDIRECT(A2&\"!G44\")),\"\")","v":""},{"$f":"IF(A2<>\"\",IF(INDIRECT(A2&\"!G45\")=\"\",\"\",INDIRECT(A2&\"!G45\")),\"\")","v":""},{"$f":"IF(A2<>\"\",IF(INDIRECT(A2&\"!G46\")=\"\",\"\",INDIRECT(A2&\"!G46\")),\"\")","v":""},{"$f":"IF(A2<>\"\",IF(INDIRECT(A2&\"!G47\")=\"\",\"\",INDIRECT(A2&\"!G47\")),\"\")","v":""},{"$f":"IF(A2<>\"\",IF(INDIRECT(A2&\"!G48\")=\"\",\"\",INDIRECT(A2&\"!G48\")),\"\")","v":""},{"$f":"IF(A2<>\"\",IF(INDIRECT(A2&\"!G49\")=\"\",\"\",INDIRECT(A2&\"!G49\")),\"\")","v":""},{"$f":"IF(A2<>\"\",IF(INDIRECT(A2&\"!G50\")=\"\",\"\",INDIRECT(A2&\"!G50\")),\"\")","v":""},{"$f":"IF(A2<>\"\",IF(INDIRECT(A2&\"!G51\")=\"\",\"\",INDIRECT(A2&\"!G51\")),\"\")","v":""},{"$f":"IF(A2<>\"\",IF(INDIRECT(A2&\"!G52\")=\"\",\"\",INDIRECT(A2&\"!G52\")),\"\")","v":""},{"$f":"IF(A2<>\"\",IF(INDIRECT(A2&\"!G53\")=\"\",\"\",INDIRECT(A2&\"!G53\")),\"\")","v":""},{"$f":"IF(A2<>\"\",IF(INDIRECT(A2&\"!G54\")=\"\",\"\",INDIRECT(A2&\"!G54\")),\"\")","v":""},{"$f":"IF(A2<>\"\",IF(INDIRECT(A2&\"!G55\")=\"\",\"\",INDIRECT(A2&\"!G55\")),\"\")","v":""},{"$f":"IF(A2<>\"\",IF(INDIRECT(A2&\"!G56\")=\"\",\"\",INDIRECT(A2&\"!G56\")),\"\")","v":""},{"$f":"IF(A2<>\"\",IF(INDIRECT(A2&\"!G57\")=\"\",\"\",INDIRECT(A2&\"!G57\")),\"\")","v":""},{"$f":"IF(A2<>\"\",IF(INDIRECT(A2&\"!G58\")=\"\",\"\",INDIRECT(A2&\"!G58\")),\"\")","v":""},{"$f":"IF(A2<>\"\",IF(INDIRECT(A2&\"!G59\")=\"\",\"\",INDIRECT(A2&\"!G59\")),\"\")","v":""},{"$f":"IF(A2<>\"\",IF(INDIRECT(A2&\"!G60\")=\"\",\"\",SUBSTITUTE(INDIRECT(A2&\"!G60\"),\";\",\",\")),\"\")","v":""},{"$f":"IF(A2<>\"\",IF(INDIRECT(A2&\"!I44\")=\"\",\"\",INDIRECT(A2&\"!I44\")),\"\")","v":""},{"$f":"IF(A2<>\"\",IF(INDIRECT(A2&\"!I45\")=\"\",\"\",INDIRECT(A2&\"!I45\")),\"\")","v":""},{"$f":"IF(A2<>\"\",IF(INDIRECT(A2&\"!I46\")=\"\",\"\",LEFT(INDIRECT(A2&\"!I46\"),1)),\"\")","v":""},{"$f":"IF(A2<>\"\",IF(INDIRECT(A2&\"!I47\")=\"\",\"\",INDIRECT(A2&\"!I47\")),\"\")","v":""},{"$f":"IF(A2<>\"\",IF(INDIRECT(A2&\"!I48\")=\"\",\"\",INDIRECT(A2&\"!I48\")),\"\")","v":""},{"$f":"IF(A2<>\"\",IF(INDIRECT(A2&\"!I49\")=\"\",\"\",INDIRECT(A2&\"!I49\")),\"\")","v":""},{"$f":"IF(A2<>\"\",IF(INDIRECT(A2&\"!I50\")=\"\",\"\",INDIRECT(A2&\"!I50\")),\"\")","v":""},{"$f":"IF(A2<>\"\",IF(INDIRECT(A2&\"!I51\")=\"\",\"\",INDIRECT(A2&\"!I51\")),\"\")","v":""},{"$f":"IF(A2<>\"\",IF(INDIRECT(A2&\"!I52\")=\"\",\"\",INDIRECT(A2&\"!I52\")),\"\")","v":""},{"$f":"IF(A2<>\"\",IF(INDIRECT(A2&\"!I53\")=\"\",\"\",INDIRECT(A2&\"!I53\")),\"\")","v":""},{"$f":"IF(A2<>\"\",IF(INDIRECT(A2&\"!I54\")=\"\",\"\",INDIRECT(A2&\"!I54\")),\"\")","v":""},{"$f":"IF(A2<>\"\",IF(INDIRECT(A2&\"!I55\")=\"\",\"\",SUBSTITUTE(INDIRECT(A2&\"!I55\"),\";\",\",\")),\"\")","v":""},{"$f":"IF(A2<>\"\",\"*Ende*\",\"\")","v":"*Ende*"}]
["","","","","","","","","","","","","","","","","","","","","","","","","","","","","","","","","","","","","","","","","","","","","","","","","","","","","","","","","","","","","","","","","","","","","","","","","","","","","","","","","","","","","","","","","","","","","","","","","","","","","","","","","","","","","","","","","","","","","","","","","","","","","","","","","","","","","","","","","","","","","","","","","","","","","","","","","","","","","",""]
["","","","","","","","","","","","","","","","","","","","","","","","","","","","","","","","","","","","","","","","","","","","","","","","","","","","","","","","","","","","","","","","","","","","","","","","","","","","","","","","","","","","","","","","","","","","","","","","","","","","","","","","","","","","","","","","","","","","","","","","","","","","","","","","","","","","","","","","","","","","","","","","","","","","","","","","","","","","","",""]
["","","","","","","","","","","","","","","","","","","","","","","","","","","","","","","","","","","","","","","","","","","","","","","","","","","","","","","","","","","","","","","","","","","","","","","","","","","","","","","","","","","","","","","","","","","","","","","","","","","","","","","","","","","","","","","","","","","","","","","","","","","","","","","","","","","","","","","","","","","","","","","","","","","","","","","","","","","","","",""]
["","","","","","","","","","","","","","","","","","","","","","","","","","","","","","","","","","","","","","","","","","","","","","","","","","","","","","","","","","","","","","","","","","","","","","","","","","","","","","","","","","","","","","","","","","","","","","","","","","","","","","","","","","","","","","","","","","","","","","","","","","","","","","","","","","","","","","","","","","","","","","","","","","","","","","","","","","","","","",""]
["","","","","","","","","","","","","","","","","","","","","","","","","","","","","","","","","","","","","","","","","","","","","","","","","","","","","","","","","","","","","","","","","","","","","","","","","","","","","","","","","","","","","","","","","","","","","","","","","","","","","","","","","","","","","","","","","","","","","","","","","","","","","","","","","","","","","","","","","","","","","","","","","","","","","","","","","","","","","",""]
["","","","","","","","","","","","","","","","","","","","","","","","","","","","","","","","","","","","","","","","","","","","","","","","","","","","","","","","","","","","","","","","","","","","","","","","","","","","","","","","","","","","","","","","","","","","","","","","","","","","","","","","","","","","","","","","","","","","","","","","","","","","","","","","","","","","","","","","","","","","","","","","","","","","","","","","","","","","","",""]
["","","","","","","","","","","","","","","","","","","","","","","","","","","","","","","","","","","","","","","","","","","","","","","","","","","","","","","","","","","","","","","","","","","","","","","","","","","","","","","","","","","","","","","","","","","","","","","","","","","","","","","","","","","","","","","","","","","","","","","","","","","","","","","","","","","","","","","","","","","","","","","","","","","","","","","","","","","","","",""]
["","","","","","","","","","","","","","","","","","","","","","","","","","","","","","","","","","","","","","","","","","","","","","","","","","","","","","","","","","","","","","","","","","","","","","","","","","","","","","","","","","","","","","","","","","","","","","","","","","","","","","","","","","","","","","","","","","","","","","","","","","","","","","","","","","","","","","","","","","","","","","","","","","","","","","","","","","","","","",""]
["","","","","","","","","","","","","","","","","","","","","","","","","","","","","","","","","","","","","","","","","","","","","","","","","","","","","","","","","","","","","","","","","","","","","","","","","","","","","","","","","","","","","","","","","","","","","","","","","","","","","","","","","","","","","","","","","","","","","","","","","","","","","","","","","","","","","","","","","","","","","","","","","","","","","","","","","","","","","",""]
["","","","","","","","","","","","","","","","","","","","","","","","","","","","","","","","","","","","","","","","","","","","","","","","","","","","","","","","","","","","","","","","","","","","","","","","","","","","","","","","","","","","","","","","","","","","","","","","","","","","","","","","","","","","","","","","","","","","","","","","","","","","","","","","","","","","","","","","","","","","","","","","","","","","","","","","","","","","","",""]
["","","","","","","","","","","","","","","","","","","","","","","","","","","","","","","","","","","","","","","","","","","","","","","","","","","","","","","","","","","","","","","","","","","","","","","","","","","","","","","","","","","","","","","","","","","","","","","","","","","","","","","","","","","","","","","","","","","","","","","","","","","","","","","","","","","","","","","","","","","","","","","","","","","","","","","","","","","","","",""]
["","","","","","","","","","","","","","","","","","","","","","","","","","","","","","","","","","","","","","","","","","","","","","","","","","","","","","","","","","","","","","","","","","","","","","","","","","","","","","","","","","","","","","","","","","","","","","","","","","","","","","","","","","","","","","","","","","","","","","","","","","","","","","","","","","","","","","","","","","","","","","","","","","","","","","","","","","","","","",""]
["","","","","","","","","","","","","","","","","","","","","","","","","","","","","","","","","","","","","","","","","","","","","","","","","","","","","","","","","","","","","","","","","","","","","","","","","","","","","","","","","","","","","","","","","","","","","","","","","","","","","","","","","","","","","","","","","","","","","","","","","","","","","","","","","","","","","","","","","","","","","","","","","","","","","","","","","","","","","",""]
["","","","","","","","","","","","","","","","","","","","","","","","","","","","","","","","","","","","","","","","","","","","","","","","","","","","","","","","","","","","","","","","","","","","","","","","","","","","","","","","","","","","","","","","","","","","","","","","","","","","","","","","","","","","","","","","","","","","","","","","","","","","","","","","","","","","","","","","","","","","","","","","","","","","","","","","","","","","","",""]
["","","","","","","","","","","","","","","","","","","","","","","","","","","","","","","","","","","","","","","","","","","","","","","","","","","","","","","","","","","","","","","","","","","","","","","","","","","","","","","","","","","","","","","","","","","","","","","","","","","","","","","","","","","","","","","","","","","","","","","","","","","","","","","","","","","","","","","","","","","","","","","","","","","","","","","","","","","","","",""]
["","","","","","","","","","","","","","","","","","","","","","","","","","","","","","","","","","","","","","","","","","","","","","","","","","","","","","","","","","","","","","","","","","","","","","","","","","","","","","","","","","","","","","","","","","","","","","","","","","","","","","","","","","","","","","","","","","","","","","","","","","","","","","","","","","","","","","","","","","","","","","","","","","","","","","","","","","","","","",""]
["","","","","","","","","","","","","","","","","","","","","","","","","","","","","","","","","","","","","","","","","","","","","","","","","","","","","","","","","","","","","","","","","","","","","","","","","","","","","","","","","","","","","","","","","","","","","","","","","","","","","","","","","","","","","","","","","","","","","","","","","","","","","","","","","","","","","","","","","","","","","","","","","","","","","","","","","","","","","",""]
["","","","","","","","","","","","","","","","","","","","","","","","","","","","","","","","","","","","","","","","","","","","","","","","","","","","","","","","","","","","","","","","","","","","","","","","","","","","","","","","","","","","","","","","","","","","","","","","","","","","","","","","","","","","","","","","","","","","","","","","","","","","","","","","","","","","","","","","","","","","","","","","","","","","","","","","","","","","","",""]
["","","","","","","","","","","","","","","","","","","","","","","","","","","","","","","","","","","","","","","","","","","","","","","","","","","","","","","","","","","","","","","","","","","","","","","","","","","","","","","","","","","","","","","","","","","","","","","","","","","","","","","","","","","","","","","","","","","","","","","","","","","","","","","","","","","","","","","","","","","","","","","","","","","","","","","","","","","","","",""]
["","","","","","","","","","","","","","","","","","","","","","","","","","","","","","","","","","","","","","","","","","","","","","","","","","","","","","","","","","","","","","","","","","","","","","","","","","","","","","","","","","","","","","","","","","","","","","","","","","","","","","","","","","","","","","","","","","","","","","","","","","","","","","","","","","","","","","","","","","","","","","","","","","","","","","","","","","","","","",""]
["","","","","","","","","","","","","","","","","","","","","","","","","","","","","","","","","","","","","","","","","","","","","","","","","","","","","","","","","","","","","","","","","","","","","","","","","","","","","","","","","","","","","","","","","","","","","","","","","","","","","","","","","","","","","","","","","","","","","","","","","","","","","","","","","","","","","","","","","","","","","","","","","","","","","","","","","","","","","",""]
["","","","","","","","","","","","","","","","","","","","","","","","","","","","","","","","","","","","","","","","","","","","","","","","","","","","","","","","","","","","","","","","","","","","","","","","","","","","","","","","","","","","","","","","","","","","","","","","","","","","","","","","","","","","","","","","","","","","","","","","","","","","","","","","","","","","","","","","","","","","","","","","","","","","","","","","","","","","","",""]
["","","","","","","","","","","","","","","","","","","","","","","","","","","","","","","","","","","","","","","","","","","","","","","","","","","","","","","","","","","","","","","","","","","","","","","","","","","","","","","","","","","","","","","","","","","","","","","","","","","","","","","","","","","","","","","","","","","","","","","","","","","","","","","","","","","","","","","","","","","","","","","","","","","","","","","","","","","","","",""]
["","","","","","","","","","","","","","","","","","","","","","","","","","","","","","","","","","","","","","","","","","","","","","","","","","","","","","","","","","","","","","","","","","","","","","","","","","","","","","","","","","","","","","","","","","","","","","","","","","","","","","","","","","","","","","","","","","","","","","","","","","","","","","","","","","","","","","","","","","","","","","","","","","","","","","","","","","","","","",""]
["","","","","","","","","","","","","","","","","","","","","","","","","","","","","","","","","","","","","","","","","","","","","","","","","","","","","","","","","","","","","","","","","","","","","","","","","","","","","","","","","","","","","","","","","","","","","","","","","","","","","","","","","","","","","","","","","","","","","","","","","","","","","","","","","","","","","","","","","","","","","","","","","","","","","","","","","","","","","",""]
["","","","","","","","","","","","","","","","","","","","","","","","","","","","","","","","","","","","","","","","","","","","","","","","","","","","","","","","","","","","","","","","","","","","","","","","","","","","","","","","","","","","","","","","","","","","","","","","","","","","","","","","","","","","","","","","","","","","","","","","","","","","","","","","","","","","","","","","","","","","","","","","","","","","","","","","","","","","","",""]
["","","","","","","","","","","","","","","","","","","","","","","","","","","","","","","","","","","","","","","","","","","","","","","","","","","","","","","","","","","","","","","","","","","","","","","","","","","","","","","","","","","","","","","","","","","","","","","","","","","","","","","","","","","","","","","","","","","","","","","","","","","","","","","","","","","","","","","","","","","","","","","","","","","","","","","","","","","","","",""]
["","","","","","","","","","","","","","","","","","","","","","","","","","","","","","","","","","","","","","","","","","","","","","","","","","","","","","","","","","","","","","","","","","","","","","","","","","","","","","","","","","","","","","","","","","","","","","","","","","","","","","","","","","","","","","","","","","","","","","","","","","","","","","","","","","","","","","","","","","","","","","","","","","","","","","","","","","","","","",""]
["","","","","","","","","","","","","","","","","","","","","","","","","","","","","","","","","","","","","","","","","","","","","","","","","","","","","","","","","","","","","","","","","","","","","","","","","","","","","","","","","","","","","","","","","","","","","","","","","","","","","","","","","","","","","","","","","","","","","","","","","","","","","","","","","","","","","","","","","","","","","","","","","","","","","","","","","","","","","",""]
["","","","","","","","","","","","","","","","","","","","","","","","","","","","","","","","","","","","","","","","","","","","","","","","","","","","","","","","","","","","","","","","","","","","","","","","","","","","","","","","","","","","","","","","","","","","","","","","","","","","","","","","","","","","","","","","","","","","","","","","","","","","","","","","","","","","","","","","","","","","","","","","","","","","","","","","","","","","","",""]
["","","","","","","","","","","","","","","","","","","","","","","","","","","","","","","","","","","","","","","","","","","","","","","","","","","","","","","","","","","","","","","","","","","","","","","","","","","","","","","","","","","","","","","","","","","","","","","","","","","","","","","","","","","","","","","","","","","","","","","","","","","","","","","","","","","","","","","","","","","","","","","","","","","","","","","","","","","","","",""]
["","","","","","","","","","","","","","","","","","","","","","","","","","","","","","","","","","","","","","","","","","","","","","","","","","","","","","","","","","","","","","","","","","","","","","","","","","","","","","","","","","","","","","","","","","","","","","","","","","","","","","","","","","","","","","","","","","","","","","","","","","","","","","","","","","","","","","","","","","","","","","","","","","","","","","","","","","","","","",""]
["","","","","","","","","","","","","","","","","","","","","","","","","","","","","","","","","","","","","","","","","","","","","","","","","","","","","","","","","","","","","","","","","","","","","","","","","","","","","","","","","","","","","","","","","","","","","","","","","","","","","","","","","","","","","","","","","","","","","","","","","","","","","","","","","","","","","","","","","","","","","","","","","","","","","","","","","","","","","",""]
["","","","","","","","","","","","","","","","","","","","","","","","","","","","","","","","","","","","","","","","","","","","","","","","","","","","","","","","","","","","","","","","","","","","","","","","","","","","","","","","","","","","","","","","","","","","","","","","","","","","","","","","","","","","","","","","","","","","","","","","","","","","","","","","","","","","","","","","","","","","","","","","","","","","","","","","","","","","","",""]
["","","","","","","","","","","","","","","","","","","","","","","","","","","","","","","","","","","","","","","","","","","","","","","","","","","","","","","","","","","","","","","","","","","","","","","","","","","","","","","","","","","","","","","","","","","","","","","","","","","","","","","","","","","","","","","","","","","","","","","","","","","","","","","","","","","","","","","","","","","","","","","","","","","","","","","","","","","","","",""]
["","","","","","","","","","","","","","","","","","","","","","","","","","","","","","","","","","","","","","","","","","","","","","","","","","","","","","","","","","","","","","","","","","","","","","","","","","","","","","","","","","","","","","","","","","","","","","","","","","","","","","","","","","","","","","","","","","","","","","","","","","","","","","","","","","","","","","","","","","","","","","","","","","","","","","","","","","","","","",""]
["","","","","","","","","","","","","","","","","","","","","","","","","","","","","","","","","","","","","","","","","","","","","","","","","","","","","","","","","","","","","","","","","","","","","","","","","","","","","","","","","","","","","","","","","","","","","","","","","","","","","","","","","","","","","","","","","","","","","","","","","","","","","","","","","","","","","","","","","","","","","","","","","","","","","","","","","","","","","",""]
["","","","","","","","","","","","","","","","","","","","","","","","","","","","","","","","","","","","","","","","","","","","","","","","","","","","","","","","","","","","","","","","","","","","","","","","","","","","","","","","","","","","","","","","","","","","","","","","","","","","","","","","","","","","","","","","","","","","","","","","","","","","","","","","","","","","","","","","","","","","","","","","","","","","","","","","","","","","","",""]
["","","","","","","","","","","","","","","","","","","","","","","","","","","","","","","","","","","","","","","","","","","","","","","","","","","","","","","","","","","","","","","","","","","","","","","","","","","","","","","","","","","","","","","","","","","","","","","","","","","","","","","","","","","","","","","","","","","","","","","","","","","","","","","","","","","","","","","","","","","","","","","","","","","","","","","","","","","","","",""]
["","","","","","","","","","","","","","","","","","","","","","","","","","","","","","","","","","","","","","","","","","","","","","","","","","","","","","","","","","","","","","","","","","","","","","","","","","","","","","","","","","","","","","","","","","","","","","","","","","","","","","","","","","","","","","","","","","","","","","","","","","","","","","","","","","","","","","","","","","","","","","","","","","","","","","","","","","","","","",""]
["","","","","","","","","","","","","","","","","","","","","","","","","","","","","","","","","","","","","","","","","","","","","","","","","","","","","","","","","","","","","","","","","","","","","","","","","","","","","","","","","","","","","","","","","","","","","","","","","","","","","","","","","","","","","","","","","","","","","","","","","","","","","","","","","","","","","","","","","","","","","","","","","","","","","","","","","","","","","",""]
["","","","","","","","","","","","","","","","","","","","","","","","","","","","","","","","","","","","","","","","","","","","","","","","","","","","","","","","","","","","","","","","","","","","","","","","","","","","","","","","","","","","","","","","","","","","","","","","","","","","","","","","","","","","","","","","","","","","","","","","","","","","","","","","","","","","","","","","","","","","","","","","","","","","","","","","","","","","","",""]
["","","","","","","","","","","","","","","","","","","","","","","","","","","","","","","","","","","","","","","","","","","","","","","","","","","","","","","","","","","","","","","","","","","","","","","","","","","","","","","","","","","","","","","","","","","","","","","","","","","","","","","","","","","","","","","","","","","","","","","","","","","","","","","","","","","","","","","","","","","","","","","","","","","","","","","","","","","","","",""]
["","","","","","","","","","","","","","","","","","","","","","","","","","","","","","","","","","","","","","","","","","","","","","","","","","","","","","","","","","","","","","","","","","","","","","","","","","","","","","","","","","","","","","","","","","","","","","","","","","","","","","","","","","","","","","","","","","","","","","","","","","","","","","","","","","","","","","","","","","","","","","","","","","","","","","","","","","","","","",""]
["","","","","","","","","","","","","","","","","","","","","","","","","","","","","","","","","","","","","","","","","","","","","","","","","","","","","","","","","","","","","","","","","","","","","","","","","","","","","","","","","","","","","","","","","","","","","","","","","","","","","","","","","","","","","","","","","","","","","","","","","","","","","","","","","","","","","","","","","","","","","","","","","","","","","","","","","","","","","",""]
["","","","","","","","","","","","","","","","","","","","","","","","","","","","","","","","","","","","","","","","","","","","","","","","","","","","","","","","","","","","","","","","","","","","","","","","","","","","","","","","","","","","","","","","","","","","","","","","","","","","","","","","","","","","","","","","","","","","","","","","","","","","","","","","","","","","","","","","","","","","","","","","","","","","","","","","","","","","","",""]
["","","","","","","","","","","","","","","","","","","","","","","","","","","","","","","","","","","","","","","","","","","","","","","","","","","","","","","","","","","","","","","","","","","","","","","","","","","","","","","","","","","","","","","","","","","","","","","","","","","","","","","","","","","","","","","","","","","","","","","","","","","","","","","","","","","","","","","","","","","","","","","","","","","","","","","","","","","","","",""]
["","","","","","","","","","","","","","","","","","","","","","","","","","","","","","","","","","","","","","","","","","","","","","","","","","","","","","","","","","","","","","","","","","","","","","","","","","","","","","","","","","","","","","","","","","","","","","","","","","","","","","","","","","","","","","","","","","","","","","","","","","","","","","","","","","","","","","","","","","","","","","","","","","","","","","","","","","","","","",""]
["","","","","","","","","","","","","","","","","","","","","","","","","","","","","","","","","","","","","","","","","","","","","","","","","","","","","","","","","","","","","","","","","","","","","","","","","","","","","","","","","","","","","","","","","","","","","","","","","","","","","","","","","","","","","","","","","","","","","","","","","","","","","","","","","","","","","","","","","","","","","","","","","","","","","","","","","","","","","",""]
["","","","","","","","","","","","","","","","","","","","","","","","","","","","","","","","","","","","","","","","","","","","","","","","","","","","","","","","","","","","","","","","","","","","","","","","","","","","","","","","","","","","","","","","","","","","","","","","","","","","","","","","","","","","","","","","","","","","","","","","","","","","","","","","","","","","","","","","","","","","","","","","","","","","","","","","","","","","","",""]